BEGIN:VCALENDAR
VERSION:2.0
PRODID:-//Honeybourne Parish Council - ECPv6.15.18//NONSGML v1.0//EN
CALSCALE:GREGORIAN
METHOD:PUBLISH
X-WR-CALNAME:Honeybourne Parish Council
X-ORIGINAL-URL:https://honeybourne-pc.gov.uk
X-WR-CALDESC:Events for Honeybourne Parish Council
REFRESH-INTERVAL;VALUE=DURATION:PT1H
X-Robots-Tag:noindex
X-PUBLISHED-TTL:PT1H
BEGIN:VTIMEZONE
TZID:Europe/London
BEGIN:DAYLIGHT
TZOFFSETFROM:+0000
TZOFFSETTO:+0100
TZNAME:BST
DTSTART:20220327T010000
END:DAYLIGHT
BEGIN:STANDARD
TZOFFSETFROM:+0100
TZOFFSETTO:+0000
TZNAME:GMT
DTSTART:20221030T010000
END:STANDARD
BEGIN:DAYLIGHT
TZOFFSETFROM:+0000
TZOFFSETTO:+0100
TZNAME:BST
DTSTART:20230326T010000
END:DAYLIGHT
BEGIN:STANDARD
TZOFFSETFROM:+0100
TZOFFSETTO:+0000
TZNAME:GMT
DTSTART:20231029T010000
END:STANDARD
BEGIN:DAYLIGHT
TZOFFSETFROM:+0000
TZOFFSETTO:+0100
TZNAME:BST
DTSTART:20240331T010000
END:DAYLIGHT
BEGIN:STANDARD
TZOFFSETFROM:+0100
TZOFFSETTO:+0000
TZNAME:GMT
DTSTART:20241027T010000
END:STANDARD
END:VTIMEZONE
BEGIN:VEVENT
DTSTART;TZID=Europe/London:20230509T191500
DTEND;TZID=Europe/London:20230509T191500
DTSTAMP:20260421T162705
CREATED:20240507T175636Z
LAST-MODIFIED:20240507T181114Z
UID:8311-1683659700-1683659700@honeybourne-pc.gov.uk
SUMMARY:Annual Parish Council Meeting
DESCRIPTION:This meeting will be held at Honeybourne Village Hall. Members of the public are welcome to attend; please see the agenda for more details.
URL:https://honeybourne-pc.gov.uk/event/annual-parish-council-meeting
LOCATION:Honeybourne Village Hall\,
CATEGORIES:Parish Council Meetings
END:VEVENT
BEGIN:VEVENT
DTSTART;TZID=Europe/London:20230411T191500
DTEND;TZID=Europe/London:20230411T191500
DTSTAMP:20260421T162705
CREATED:20230406T110524Z
LAST-MODIFIED:20230627T161551Z
UID:6776-1681240500-1681240500@honeybourne-pc.gov.uk
SUMMARY:Parish Council Meeting
DESCRIPTION:This meeting will be held at Honeybourne Village Hall. Members of the public are welcome to attend; please see the agenda for more details.
URL:https://honeybourne-pc.gov.uk/event/parish-council-meeting
LOCATION:Honeybourne Village Hall\,
CATEGORIES:Parish Council Meetings
END:VEVENT
END:VCALENDAR